BEGIN:VCALENDAR
VERSION:2.0
PRODID:-//Kuwait Business Gate | منصة الأعمال الكويتية - ECPv6.9.0//NONSGML v1.0//EN
CALSCALE:GREGORIAN
METHOD:PUBLISH
X-WR-CALNAME:Kuwait Business Gate | منصة الأعمال الكويتية
X-ORIGINAL-URL:https://kuwaitendersgate.com
X-WR-CALDESC:Events for Kuwait Business Gate | منصة الأعمال الكويتية
REFRESH-INTERVAL;VALUE=DURATION:PT1H
X-Robots-Tag:noindex
X-PUBLISHED-TTL:PT1H
BEGIN:VTIMEZONE
TZID:UTC
BEGIN:STANDARD
TZOFFSETFROM:+0000
TZOFFSETTO:+0000
TZNAME:UTC
DTSTART:20220101T000000
END:STANDARD
END:VTIMEZONE
BEGIN:VEVENT
DTSTART;TZID=UTC:20220531T080000
DTEND;TZID=UTC:20220818T170000
DTSTAMP:20260420T091749
CREATED:20220801T162155Z
LAST-MODIFIED:20220801T164406Z
UID:6598-1653984000-1660842000@kuwaitendersgate.com
SUMMARY:Alumni Support
DESCRIPTION:Phone: +966562017444\nEmail: balharbi@datacommunitysa.com\n  \nEmbodying the vision of the wise leadership in achieving the interest of the nation and the citizen and providing the students with the opportunity to integrate all that they have learned during their years of study\, their creativity\, and discover innovative ideas that contribute to providing and developing new solutions that suit the needs of society and the labor market and are in line with the current development of technology. We launched this initiative to highlight the efforts and competency of the graduate students and share their experience and projects that employ data science and artificial intelligence in digital products and solutions and present them to the community and the supporting bodies.
URL:https://kuwaitendersgate.com/event/alumni-support/
ATTACH;FMTTYPE=image/jpeg:https://kuwaitendersgate.com/wp-content/uploads/2022/08/image-1-1.jpg
END:VEVENT
BEGIN:VEVENT
DTSTART;TZID=UTC:20220801T080000
DTEND;TZID=UTC:20220801T170000
DTSTAMP:20260420T091749
CREATED:20220801T154118Z
LAST-MODIFIED:20220801T161937Z
UID:6592-1659340800-1659373200@kuwaitendersgate.com
SUMMARY:Real Estate Future Forum
DESCRIPTION:https://www.therff.com/\n\n\n\nThe forum seeks to become an intellectual\, scientific\, and strategic assembly\, as well as an international platform that follows a distinguished scientific approach discussing the reality and future of real estate sector and adopts a unique modality to enrich all points of discussion considering the most successful international experiences\, seeking to contribute to the development and promotion of the sector’s future\nThe forum facilitates the meeting of national and international key actors in real estate sector\, so that they meet and communicate in one place\, exchange information and experiences\, and discuss challenges as well as practices related to the real estate sector. Such meetings are necessary for the development of real estate sector\, and a critical element that supports the economic system in general and the real estate sector in particular. It’s noteworthy that the real estate sector is a major driver towards achieving the development and attracting investments\, it is also an effective contributor to the gross domestic production\, and the sector that offers job opportunities to nationals in real-estate institutions\, that will achieve the attractive and vital real-estate prosperity.
URL:https://kuwaitendersgate.com/event/real-estate-future-forum/
ATTACH;FMTTYPE=image/jpeg:https://kuwaitendersgate.com/wp-content/uploads/2022/08/image-1.jpg
END:VEVENT
END:VCALENDAR