BEGIN:VCALENDAR
VERSION:2.0
PRODID:-//Kuwait Business Gate | منصة الأعمال الكويتية - ECPv6.9.0//NONSGML v1.0//EN
CALSCALE:GREGORIAN
METHOD:PUBLISH
X-ORIGINAL-URL:https://kuwaitendersgate.com
X-WR-CALDESC:Events for Kuwait Business Gate | منصة الأعمال الكويتية
REFRESH-INTERVAL;VALUE=DURATION:PT1H
X-Robots-Tag:noindex
X-PUBLISHED-TTL:PT1H
BEGIN:VTIMEZONE
TZID:UTC
BEGIN:STANDARD
TZOFFSETFROM:+0000
TZOFFSETTO:+0000
TZNAME:UTC
DTSTART:20220101T000000
END:STANDARD
END:VTIMEZONE
BEGIN:VEVENT
DTSTART;TZID=UTC:20220828T090000
DTEND;TZID=UTC:20220830T180000
DTSTAMP:20260420T055606
CREATED:20220808T081151Z
LAST-MODIFIED:20220808T081151Z
UID:7096-1661677200-1661882400@kuwaitendersgate.com
SUMMARY:Healthcare Technologies Expo
DESCRIPTION:Healthcare Technologies Expo will be bringing together global leaders\, visionaries\, and professionals. Run interactive and informative speaking sessions\, workshops\, and panel discussions. The platform will provide an ideal opportunity for networking and collaboration amongst industry peers. Shaping the Digital Transformation of Healthcare reforms in the Kingdom of Saudi Arabia with an exclusive expo featuring the new technology and inventions.
URL:https://kuwaitendersgate.com/event/healthcare-technologies-expo/
CATEGORIES:Conference and Exhibition
ATTACH;FMTTYPE=image/jpeg:https://kuwaitendersgate.com/wp-content/uploads/2022/08/blog_health.jpg
END:VEVENT
END:VCALENDAR