BEGIN:VCALENDAR
VERSION:2.0
PRODID:-//Kuwait Business Gate | منصة الأعمال الكويتية - ECPv6.9.0//NONSGML v1.0//EN
CALSCALE:GREGORIAN
METHOD:PUBLISH
X-WR-CALNAME:Kuwait Business Gate | منصة الأعمال الكويتية
X-ORIGINAL-URL:https://kuwaitendersgate.com
X-WR-CALDESC:Events for Kuwait Business Gate | منصة الأعمال الكويتية
REFRESH-INTERVAL;VALUE=DURATION:PT1H
X-Robots-Tag:noindex
X-PUBLISHED-TTL:PT1H
BEGIN:VTIMEZONE
TZID:UTC
BEGIN:STANDARD
TZOFFSETFROM:+0000
TZOFFSETTO:+0000
TZNAME:UTC
DTSTART:20220101T000000
END:STANDARD
END:VTIMEZONE
BEGIN:VEVENT
DTSTART;TZID=UTC:20220907T080000
DTEND;TZID=UTC:20220907T170000
DTSTAMP:20260420T055334
CREATED:20220801T163912Z
LAST-MODIFIED:20220801T163912Z
UID:6607-1662537600-1662570000@kuwaitendersgate.com
SUMMARY:The Euromoney Saudi Arabia Conference 7 Sep\, 2022 from 8:00 AM to 5:15 PM (GMT+3) Riyadh
DESCRIPTION:Who we are\nEuromoney Conferences is the world’s leading organiser of events for capital markets and investment professionals. We have almost 50 years’ experience connecting companies and governments with the financial institutions that support their growth. \nAt our events we aim to identify and explain the latest trends in global financial markets\, on the one hand\, but also act as impartial forums for the rigorous exchange of ideas\, on the other. This is in addition to their value as independent venues where people can make new connections and forge profitable business relationships. \nSince the 1970s we’ve held events in over 60 countries that have attracted the most senior figures from business\, finance and government – both as speakers and delegates. \nThe conference business was born out of our sister publication Euromoney magazine. \n\n\nOrganizer\n\n\n\nEuromoney Conferences\nPhone: +852 2842 6961\nFax: +852 2842 7067\nEmail: rsvp@euromoneyplc.com
URL:https://kuwaitendersgate.com/event/the-euromoney-saudi-arabia-conference-7-sep-2022-from-800-am-to-515-pm-gmt3-riyadh/
ATTACH;FMTTYPE=image/jpeg:https://kuwaitendersgate.com/wp-content/uploads/2022/08/image-4.jpg
END:VEVENT
END:VCALENDAR