BEGIN:VCALENDAR
VERSION:2.0
PRODID:-//Kuwait Business Gate | منصة الأعمال الكويتية - ECPv6.9.0//NONSGML v1.0//EN
CALSCALE:GREGORIAN
METHOD:PUBLISH
X-ORIGINAL-URL:https://kuwaitendersgate.com
X-WR-CALDESC:Events for Kuwait Business Gate | منصة الأعمال الكويتية
REFRESH-INTERVAL;VALUE=DURATION:PT1H
X-Robots-Tag:noindex
X-PUBLISHED-TTL:PT1H
BEGIN:VTIMEZONE
TZID:UTC
BEGIN:STANDARD
TZOFFSETFROM:+0000
TZOFFSETTO:+0000
TZNAME:UTC
DTSTART:20220101T000000
END:STANDARD
END:VTIMEZONE
BEGIN:VEVENT
DTSTART;TZID=UTC:20221204T090000
DTEND;TZID=UTC:20221206T180000
DTSTAMP:20260419T225217
CREATED:20221204T112039Z
LAST-MODIFIED:20221204T112039Z
UID:18642-1670144400-1670349600@kuwaitendersgate.com
SUMMARY:International Conference for Disability and Rehabilitation
DESCRIPTION:The International Conference for Disability and Rehabilitation theme will be to empower individuals disabilities from childhood to adulthood Research & Practice. It is an international scientific gathering that will launch to broad horizons with great ambitions that simulate the aspirations of the Revered King\, and contribute to making qualitative leaps in all areas related to disability.
URL:https://kuwaitendersgate.com/event/international-conference-for-disability-and-rehabilitation/
CATEGORIES:Conference and Exhibition
ATTACH;FMTTYPE=image/jpeg:https://kuwaitendersgate.com/wp-content/uploads/2022/12/International-Conference-for-Disability-and-Rehabilitation.jpg
END:VEVENT
END:VCALENDAR