BEGIN:VCALENDAR
VERSION:2.0
PRODID:-//Kuwait Business Gate | منصة الأعمال الكويتية - ECPv6.9.0//NONSGML v1.0//EN
CALSCALE:GREGORIAN
METHOD:PUBLISH
X-ORIGINAL-URL:https://kuwaitendersgate.com
X-WR-CALDESC:Events for Kuwait Business Gate | منصة الأعمال الكويتية
REFRESH-INTERVAL;VALUE=DURATION:PT1H
X-Robots-Tag:noindex
X-PUBLISHED-TTL:PT1H
BEGIN:VTIMEZONE
TZID:UTC
BEGIN:STANDARD
TZOFFSETFROM:+0000
TZOFFSETTO:+0000
TZNAME:UTC
DTSTART:20220101T000000
END:STANDARD
END:VTIMEZONE
BEGIN:VEVENT
DTSTART;TZID=UTC:20221213T090000
DTEND;TZID=UTC:20221214T180000
DTSTAMP:20260420T092746
CREATED:20221212T121421Z
LAST-MODIFIED:20221212T121421Z
UID:19826-1670922000-1671040800@kuwaitendersgate.com
SUMMARY:International Conference on Medical & Health Science
DESCRIPTION:International Conference on Medical & Health Science will provide an excellent international forum for sharing knowledge and a result in Medical & Health Science. The aim of the Conference is to provide a platform for researchers and practitioners from both academia as well as industry to meet the share cutting-edge development in the field.
URL:https://kuwaitendersgate.com/event/international-conference-on-medical-health-science/
CATEGORIES:Conference and Exhibition
END:VEVENT
BEGIN:VEVENT
DTSTART;TZID=UTC:20221214T090000
DTEND;TZID=UTC:20221215T214500
DTSTAMP:20260420T092746
CREATED:20221212T121405Z
LAST-MODIFIED:20221212T121405Z
UID:19823-1671008400-1671140700@kuwaitendersgate.com
SUMMARY:CONSTRUCTION TECHNOLOGY FESTIVAL KSA
DESCRIPTION:CONSTRUCTION TECHNOLOGY FESTIVAL KSA (CTF KSA) brings together the Kingdom’s key government authorities\, project developers\, contractors\, consultants and ConTech companies to share digital use-cases that design\, build and operatemajor projects faster\, cheaper and more efficiently. \nThe event is co-organised by the SCA and co-located with The Contracting Excellence Awards\, a Saudi Contractors Authority initiative to recognise the best examples of local contracting industry innovation\, best practice and excellence
URL:https://kuwaitendersgate.com/event/construction-technology-festival-ksa/
CATEGORIES:Conference and Exhibition
ATTACH;FMTTYPE=image/jpeg:https://kuwaitendersgate.com/wp-content/uploads/2022/12/Construction-Technology-Festival-KSA-2022.jpg
END:VEVENT
END:VCALENDAR