BEGIN:VCALENDAR
VERSION:2.0
PRODID:-//Kuwait Business Gate | منصة الأعمال الكويتية - ECPv6.9.0//NONSGML v1.0//EN
CALSCALE:GREGORIAN
METHOD:PUBLISH
X-WR-CALNAME:Kuwait Business Gate | منصة الأعمال الكويتية
X-ORIGINAL-URL:https://kuwaitendersgate.com
X-WR-CALDESC:Events for Kuwait Business Gate | منصة الأعمال الكويتية
REFRESH-INTERVAL;VALUE=DURATION:PT1H
X-Robots-Tag:noindex
X-PUBLISHED-TTL:PT1H
BEGIN:VTIMEZONE
TZID:UTC
BEGIN:STANDARD
TZOFFSETFROM:+0000
TZOFFSETTO:+0000
TZNAME:UTC
DTSTART:20220101T000000
END:STANDARD
END:VTIMEZONE
BEGIN:VEVENT
DTSTART;TZID=UTC:20220919T080000
DTEND;TZID=UTC:20221108T170000
DTSTAMP:20260419T225041
CREATED:20220801T172639Z
LAST-MODIFIED:20220801T172639Z
UID:6612-1663574400-1667926800@kuwaitendersgate.com
SUMMARY:The Saudi Event Show 19 - 20 Sep\, 2022 (GMT+3) Hilton Riyadh Hotel & Residences Riyadh\, Saudi Arabia\, Riyadh
DESCRIPTION:Phone: 971 4 4072476\nWebsite: Click Here\n   \n\n\nThe Saudi Event Show is your opportunity to connect with 2000+ event professionals and 50+ exhibitors from across the industry – organisers\, entertainment professionals\, marketing\, PR and creative specialists\, operations experts\, event technology and solution providers\, regulators and other stakeholders. This year’s edition is going to be the best one yet\, taking place in-person in Riyadh and bringing together the who’s who of the Kingdom’s MICE and entertainment industry. The Show features 25+ free-to-attend seminars taking place on the expo floor as well as online\, covering everything you need to know about the Kingdom’s event industry\, including market updates\, visas and regulations\, wedding trends\, e-sport events\, catering\, marketing\, the latest event tech\, AV\, temporary structures and much more. \n\n\n\n\n\n\n\n\n\n\n\n\n\nOrganizer\n\n\n\nInforma Connect\nPhone: 971 4 407 2500\nWebsite: Click Here\n   
URL:https://kuwaitendersgate.com/event/the-saudi-event-show-19-20-sep-2022-gmt3-hilton-riyadh-hotel-residences-riyadh-saudi-arabia-riyadh/
ATTACH;FMTTYPE=image/jpeg:https://kuwaitendersgate.com/wp-content/uploads/2022/08/image-6.jpg
END:VEVENT
BEGIN:VEVENT
DTSTART;TZID=UTC:20221113T174500
DTEND;TZID=UTC:20221113T193500
DTSTAMP:20260419T225041
CREATED:20221113T125622Z
LAST-MODIFIED:20221113T125622Z
UID:15834-1668361500-1668368100@kuwaitendersgate.com
SUMMARY:Division 1 - Al Riyadh vs Al-Ain
DESCRIPTION:Venue\n\n\nPrince Turki bin Abdul Aziz Stadium \nTaiba Street\, Ar-Riyāḍ (Riyadh)\, Saudi Arabia \n\n\n\n\nLocation\n\nPrince Turki bin Abdul Aziz Stadium\, Taiba Street\, Ar-Riyāḍ (Riyadh)\, Saudi Arabia
URL:https://kuwaitendersgate.com/event/division-1-al-riyadh-vs-al-ain/
CATEGORIES:sport
ATTACH;FMTTYPE=image/jpeg:https://kuwaitendersgate.com/wp-content/uploads/2022/11/Division-1-Al-Riyadh-vs-Al-Ain.jpg
END:VEVENT
BEGIN:VEVENT
DTSTART;TZID=UTC:20221114T090000
DTEND;TZID=UTC:20221115T180000
DTSTAMP:20260419T225041
CREATED:20221113T125626Z
LAST-MODIFIED:20221113T125626Z
UID:15835-1668416400-1668535200@kuwaitendersgate.com
SUMMARY:Saudi Trade Finance Summit
DESCRIPTION:The value of Saudi Arabia’s international trade posted a new record with an annual increase of 48.5 percent after its volume reaching SR516 billion in the first quarter of 2022. The trade surplus jumped to SAR 90.27 billion in May of 2022\, compared to SAR 34.37 billion a year earlier. \nGovernment\, regulators\, corporates\, tech-providers\, and financial institutions are all working towards the Vision 2030 goal of diversifying the Saudi economy. The Saudi Trade Finance Summit (STF) augments the FSDP objectives under Vision 2030 of achieving financial diversity\, inclusiveness and development of the private sector by strengthening the Kingdom’s trade with international markets\, thereby serving as an enabler in raising the share of the country’s non-oil exports in the non-oil GDP from 16% to 50% by 2030. \nIn the 10th year of the Saudi Trade Finance Summit\, the summit strives to support Saudi Arabia’s export development vision by bringing 350+ stakeholders to advance the Kingdom’s international trade and investments by promoting non-oil exports to new markets’\, improve the efficiency of the trading environment as well as strengthen its position as a regional and global business hub. \nFurther\, the summit aims to tackle challenges that form the crux of the problem by optimizing access to adequate trade & supply chain financing solutions and fostering confidence for new trade partners via availing credit insurance and mitigating risk factors. The platform also addresses the vital role played by digitization in the trade & supply chain landscape in driving efficiency\, cost optimization & risk management across the value chain. \nThe two-day summit addresses some of the latest challenges and resultant opportunities for Saudi’s trade finance sector including optimal liquidity management for Saudi exporters\, suppliers and SMEs\, supply chain financing\, accelerated adoption of digitization & technological innovations for optimizing trade finance\, managing inherent risks as well as sustainable development of the sector form the major areas of discussion.
URL:https://kuwaitendersgate.com/event/saudi-trade-finance-summit/
CATEGORIES:Conference and Exhibition
ATTACH;FMTTYPE=image/jpeg:https://kuwaitendersgate.com/wp-content/uploads/2022/11/Saudi-Trade-Finance-Summit-1.jpg
END:VEVENT
END:VCALENDAR